BEGIN:VCALENDAR
VERSION:2.0
PRODID:-//eventon.com NONSGML v1.0//EN
BEGIN:VEVENT
UID:69e732a022a9a
DTSTAMP:20260421T041736
DTSTART:000000T000000Z
DTEND:086399T000000Z
TZID:Pacific/Midway
LOCATION:
SUMMARY:Event 4
DESCRIPTION: Event Sub Title Event Sub Title Event Sub Title Event Sub TitleEvent Sub Title Event Sub Title Event Sub Title Event Sub TitleEvent Sub Title Event Sub Title Event Sub Title Event Sub TitleEvent Sub Title Event Sub Title Event Sub Title Event Sub Title
URL:https://sevenminutes.club/events/event-4/
END:VEVENT
END:VCALENDAR